BEGIN:VCALENDAR
VERSION:2.0
PRODID:-//hacksw/handcal//NONSGML v1.0//EN
BEGIN:VEVENT
SUMMARY:Rando Pierre Plantee
UID:7aed2713-f003-4a39-ab59-482328ad3e09
DTSTART:20260503T053000Z
DTEND:20260503T110000Z
LOCATION:Localisation   
CATEGORIES:Sportif
STATUS:
DESCRIPTION:<p>A l'occasion de la concentration nationale Velocio
 (montee de la Pierre Plantee organisee par le CODEP Herault), le VCS
 propose une nouvelle journee rando decouvertes.</p>
 
 <p>2
 propositions :</p>
 
 <p>- depart 7 h 30 de Serignan pour 140 km et
 1400 m (parcours openrunner :  <a
 href="https://www.openrunner.com/route-details/23840787"
 target="_blank" rel="noreferrer
 noopener">https://www.openrunner.com/route-details/23840787</a> )</p>
 
 <p>-
 depart d' Herepian a 8 h 30 pour 80 km et 1200 m (parcours
 openrunner <a
 href="https://www.openrunner.com/route-details/23840787"
 target="_blank" rel="noreferrer
 noopener">https://www.openrunner.com/route-details/23840787</a>) avec
 un regroupement pour les departs en voiture a 7 h 30 au stade
 Aita.</p>
 
 <p>Informations sur la concentration Velocio : <a
 href="https://herault.ffvelo.fr/concentration-velocio/"
 target="_blank" rel="noreferrer
 noopener">https://herault.ffvelo.fr/concentration-velocio/</a></p>
URL;VALUE=URI:https://www.veloclubserignanais.com/evenements/2026/05/03/rando-pierre-plantee-2442778
END:VEVENT
END:VCALENDAR
